BEGIN:VCALENDAR
VERSION:2.0
PRODID:-//Schützenverein Rickensdorf//NONSGML kigkonsult.se iCalcreator 2.3
 0.10//
CALSCALE:GREGORIAN
METHOD:PUBLISH
UID:d23b9c5d-3c21-4be0-9397-9cc90162a51e
X-WR-CALNAME:iCagenda
X-WR-CALDESC:Event Management Extension for Joomla!
X-WR-RELCALID:3E26604A-50F4-4449-8B3E-E4F4932D05B5
X-WR-TIMEZONE:Europe/Berlin
BEGIN:VTIMEZONE
TZID:Europe/Berlin
BEGIN:STANDARD
TZNAME:CET
DTSTART:20231029T030000
TZOFFSETFROM:+0200
TZOFFSETTO:+0100
RDATE:20241027T030000
RDATE:20251026T030000
END:STANDARD
BEGIN:DAYLIGHT
TZNAME:CEST
DTSTART:20240331T020000
TZOFFSETFROM:+0100
TZOFFSETTO:+0200
RDATE:20250330T020000
END:DAYLIGHT
END:VTIMEZONE
BEGIN:VEVENT
UID:6fbfab3f-2f7c-4d8d-afdc-ef804ca23805
DTSTAMP:20260422T185213Z
CATEGORIES:Vereinstermin
CLASS:PUBLIC
DESCRIPTION:
DTSTART:20240526T103000Z
DTEND:20240526T163900Z
GEO:+52.357021;+10.970017
LOCATION:Rickensdorf
ORGANIZER:
SEQUENCE:1
SUMMARY:Abrechnung mit Spargelessen
TRANSP:OPAQUE
URL:https://svrj5.sv-rickensdorf.de/vereinstermine/10-abrechnung-mit-sparge
 lessen/2024-05-26-12-30
END:VEVENT
END:VCALENDAR
