BEGIN:VCALENDAR
VERSION:2.0
PRODID:-//Schützenverein Rickensdorf//NONSGML kigkonsult.se iCalcreator 2.3
 0.10//
CALSCALE:GREGORIAN
METHOD:PUBLISH
UID:b8e8e3a5-e175-41cf-9cc9-d5506d8c5327
X-WR-CALNAME:iCagenda
X-WR-CALDESC:Event Management Extension for Joomla!
X-WR-RELCALID:3E26604A-50F4-4449-8B3E-E4F4932D05B5
X-WR-TIMEZONE:Europe/Berlin
BEGIN:VTIMEZONE
TZID:Europe/Berlin
BEGIN:STANDARD
TZNAME:CET
DTSTART:20231029T030000
TZOFFSETFROM:+0200
TZOFFSETTO:+0100
RDATE:20241027T030000
END:STANDARD
BEGIN:DAYLIGHT
TZNAME:CEST
DTSTART:20230326T020000
TZOFFSETFROM:+0100
TZOFFSETTO:+0200
RDATE:20240331T020000
RDATE:20250330T020000
END:DAYLIGHT
END:VTIMEZONE
BEGIN:VEVENT
UID:532459e6-ebf6-44e6-b858-0cfef8803295
DTSTAMP:20260425T174659Z
CATEGORIES:Veranstaltung
CLASS:PUBLIC
DESCRIPTION:
DTSTART:20231109T180000Z
DTEND:20231109T200000Z
GEO:+52.357021;+10.970017
LOCATION:Rickensdorf
ORGANIZER:
SEQUENCE:1
SUMMARY:Verkaufsveranstaltung
TRANSP:OPAQUE
URL:https://svrj5.sv-rickensdorf.de/vereinstermine/11-verkaufsveranstaltung
 /2023-11-09-19-00
END:VEVENT
END:VCALENDAR
