BEGIN:VCALENDAR
VERSION:2.0
PRODID:-//Schützenverein Rickensdorf//NONSGML kigkonsult.se iCalcreator 2.3
 0.10//
CALSCALE:GREGORIAN
METHOD:PUBLISH
UID:3957a023-35a6-40c2-8169-1f3914a2e522
X-WR-CALNAME:iCagenda
X-WR-CALDESC:Event Management Extension for Joomla!
X-WR-RELCALID:3E26604A-50F4-4449-8B3E-E4F4932D05B5
X-WR-TIMEZONE:Europe/Berlin
BEGIN:VTIMEZONE
TZID:Europe/Berlin
BEGIN:STANDARD
TZNAME:CET
DTSTART:20231029T030000
TZOFFSETFROM:+0200
TZOFFSETTO:+0100
RDATE:20241027T030000
END:STANDARD
BEGIN:DAYLIGHT
TZNAME:CEST
DTSTART:20230326T020000
TZOFFSETFROM:+0100
TZOFFSETTO:+0200
RDATE:20240331T020000
RDATE:20250330T020000
END:DAYLIGHT
END:VTIMEZONE
BEGIN:VEVENT
UID:cdbeeb79-2863-4c22-9b87-9a25183bdbda
DTSTAMP:20260421T104601Z
CATEGORIES:Vereinstermin
CLASS:PUBLIC
DESCRIPTION:
DTSTART:20240303T100000Z
DTEND:20240303T100000Z
GEO:+52.355675;+10.714334
LOCATION:Flechtorf
ORGANIZER:
SEQUENCE:1
SUMMARY:Delegiertenversammlung
TRANSP:OPAQUE
URL:https://svrj5.sv-rickensdorf.de/vereinstermine/12-delegiertenversammlun
 g/2024-03-03-11-00
END:VEVENT
END:VCALENDAR
