BEGIN:VCALENDAR
VERSION:2.0
PRODID:-//Schützenverein Rickensdorf//NONSGML kigkonsult.se iCalcreator 2.3
 0.10//
CALSCALE:GREGORIAN
METHOD:PUBLISH
UID:c70788ca-5474-4c4a-9dd5-2af312820377
X-WR-CALNAME:iCagenda
X-WR-CALDESC:Event Management Extension for Joomla!
X-WR-RELCALID:3E26604A-50F4-4449-8B3E-E4F4932D05B5
X-WR-TIMEZONE:Europe/Berlin
BEGIN:VTIMEZONE
TZID:Europe/Berlin
BEGIN:STANDARD
TZNAME:CET
DTSTART:20231029T030000
TZOFFSETFROM:+0200
TZOFFSETTO:+0100
RDATE:20241027T030000
END:STANDARD
BEGIN:DAYLIGHT
TZNAME:CEST
DTSTART:20230326T020000
TZOFFSETFROM:+0100
TZOFFSETTO:+0200
RDATE:20240331T020000
RDATE:20250330T020000
END:DAYLIGHT
END:VTIMEZONE
BEGIN:VEVENT
UID:635074f5-2062-42b9-aec8-342551cc66b0
DTSTAMP:20260424T185537Z
CATEGORIES:Veranstaltung
CLASS:PUBLIC
DESCRIPTION:
DTSTART:20240130T180000Z
DTEND:20240130T180000Z
GEO:+52.357021;+10.970017
LOCATION:Schützenhaus Rickensdorf
ORGANIZER:
SEQUENCE:1
SUMMARY:Verkaufsveranstaltung
TRANSP:OPAQUE
URL:https://svrj5.sv-rickensdorf.de/vereinstermine/15-verkaufsveranstaltung
 -2/2024-01-30-19-00
END:VEVENT
END:VCALENDAR
