BEGIN:VCALENDAR
VERSION:2.0
PRODID:-//Schützenverein Rickensdorf//NONSGML kigkonsult.se iCalcreator 2.3
 0.10//
CALSCALE:GREGORIAN
METHOD:PUBLISH
UID:77f3c5cd-8d55-40c3-aca0-daebbfe9051a
X-WR-CALNAME:iCagenda
X-WR-CALDESC:Event Management Extension for Joomla!
X-WR-RELCALID:3E26604A-50F4-4449-8B3E-E4F4932D05B5
X-WR-TIMEZONE:Europe/Berlin
BEGIN:VTIMEZONE
TZID:Europe/Berlin
BEGIN:STANDARD
TZNAME:CET
DTSTART:20231029T030000
TZOFFSETFROM:+0200
TZOFFSETTO:+0100
RDATE:20241027T030000
END:STANDARD
BEGIN:DAYLIGHT
TZNAME:CEST
DTSTART:20240331T020000
TZOFFSETFROM:+0100
TZOFFSETTO:+0200
RDATE:20250330T020000
END:DAYLIGHT
END:VTIMEZONE
BEGIN:VEVENT
UID:11949f70-0850-40c7-bffb-ea938384ab82
DTSTAMP:20260420T212612Z
CATEGORIES:Vereinstermin
CLASS:PUBLIC
DESCRIPTION:
DTSTART:20240420T183300Z
DTEND:20240420T183300Z
GEO:+52.357021;+10.970017
LOCATION:Rickensdorf\, Siedlerweg 6
ORGANIZER:
SEQUENCE:1
SUMMARY:Pokalschießen der Samtgemeinde Velpke
TRANSP:OPAQUE
URL:https://svrj5.sv-rickensdorf.de/vereinstermine/18-pokalschiessen-der-sa
 mtgemeinde-velpke/2024-04-20-20-33
END:VEVENT
END:VCALENDAR
