BEGIN:VCALENDAR
VERSION:2.0
PRODID:-//Schützenverein Rickensdorf//NONSGML kigkonsult.se iCalcreator 2.3
 0.10//
CALSCALE:GREGORIAN
METHOD:PUBLISH
UID:d5d513ed-01c4-4a90-9066-78bec98fc8b4
X-WR-CALNAME:iCagenda
X-WR-CALDESC:Event Management Extension for Joomla!
X-WR-RELCALID:3E26604A-50F4-4449-8B3E-E4F4932D05B5
X-WR-TIMEZONE:Europe/Berlin
BEGIN:VTIMEZONE
TZID:Europe/Berlin
BEGIN:STANDARD
TZNAME:CET
DTSTART:20231029T030000
TZOFFSETFROM:+0200
TZOFFSETTO:+0100
RDATE:20241027T030000
END:STANDARD
BEGIN:DAYLIGHT
TZNAME:CEST
DTSTART:20230326T020000
TZOFFSETFROM:+0100
TZOFFSETTO:+0200
RDATE:20240331T020000
RDATE:20250330T020000
END:DAYLIGHT
END:VTIMEZONE
BEGIN:VEVENT
UID:224087f3-56bf-4ffd-b0d4-436c07983a7e
DTSTAMP:20260421T114254Z
CATEGORIES:Vereinstermin
CLASS:PUBLIC
DESCRIPTION:
DTSTART:20240310T173200Z
DTEND:20240310T223200Z
GEO:00;0
LOCATION:Rickensdorf
ORGANIZER:
SEQUENCE:1
SUMMARY:45 Jahre Damenabteilung
TRANSP:OPAQUE
URL:https://svrj5.sv-rickensdorf.de/vereinstermine/5-45-jahre-damenabteilun
 g
END:VEVENT
END:VCALENDAR
