BEGIN:VCALENDAR
VERSION:2.0
PRODID:-//Schützenverein Rickensdorf//NONSGML kigkonsult.se iCalcreator 2.3
 0.10//
CALSCALE:GREGORIAN
METHOD:PUBLISH
UID:df2103c4-9ad9-4bcf-9d58-09ae2e173888
X-WR-CALNAME:iCagenda
X-WR-CALDESC:Event Management Extension for Joomla!
X-WR-RELCALID:3E26604A-50F4-4449-8B3E-E4F4932D05B5
X-WR-TIMEZONE:Europe/Berlin
BEGIN:VTIMEZONE
TZID:Europe/Berlin
BEGIN:STANDARD
TZNAME:CET
DTSTART:20231029T030000
TZOFFSETFROM:+0200
TZOFFSETTO:+0100
RDATE:20241027T030000
RDATE:20251026T030000
END:STANDARD
BEGIN:DAYLIGHT
TZNAME:CEST
DTSTART:20240331T020000
TZOFFSETFROM:+0100
TZOFFSETTO:+0200
RDATE:20250330T020000
END:DAYLIGHT
END:VTIMEZONE
BEGIN:VEVENT
UID:ed500e57-dc22-4c0d-9135-94a399d13266
DTSTAMP:20260425T113109Z
CATEGORIES:Vereinstermin
CLASS:PUBLIC
DESCRIPTION:
DTSTART:20240427T163500Z
DTEND:20240427T210000Z
GEO:00;0
LOCATION:
ORGANIZER:
SEQUENCE:1
SUMMARY:Kreismeisterschaft Siegerehrung
TRANSP:OPAQUE
URL:https://svrj5.sv-rickensdorf.de/vereinstermine/7-kreismeisterschaft-sie
 gerehrung
END:VEVENT
END:VCALENDAR
