BEGIN:VCALENDAR
VERSION:2.0
PRODID:-//Schützenverein Rickensdorf//NONSGML kigkonsult.se iCalcreator 2.3
 0.10//
CALSCALE:GREGORIAN
METHOD:PUBLISH
UID:ee9f8834-cb9b-4367-8122-7959e686e415
X-WR-CALNAME:iCagenda
X-WR-CALDESC:Event Management Extension for Joomla!
X-WR-RELCALID:3E26604A-50F4-4449-8B3E-E4F4932D05B5
X-WR-TIMEZONE:Europe/Berlin
BEGIN:VTIMEZONE
TZID:Europe/Berlin
BEGIN:STANDARD
TZNAME:CET
DTSTART:20231029T030000
TZOFFSETFROM:+0200
TZOFFSETTO:+0100
RDATE:20241027T030000
RDATE:20251026T030000
END:STANDARD
BEGIN:DAYLIGHT
TZNAME:CEST
DTSTART:20240331T020000
TZOFFSETFROM:+0100
TZOFFSETTO:+0200
RDATE:20250330T020000
END:DAYLIGHT
END:VTIMEZONE
BEGIN:VEVENT
UID:5451ef22-48c1-4cf4-ab0e-00e93080a952
DTSTAMP:20260420T192135Z
CATEGORIES:Vereinstermin
CLASS:PUBLIC
DESCRIPTION:
DTSTART:20240501T163600Z
DTEND:20240501T215900Z
GEO:00;0
LOCATION:Rickensdorf
ORGANIZER:
SEQUENCE:1
SUMMARY:Königsschießen
TRANSP:OPAQUE
URL:https://svrj5.sv-rickensdorf.de/vereinstermine/8-koenigsschiessen/2024-
 05-01-18-36
END:VEVENT
END:VCALENDAR
