BEGIN:VCALENDAR
VERSION:2.0
PRODID:-//Schützenverein Rickensdorf//NONSGML kigkonsult.se iCalcreator 2.3
 0.10//
CALSCALE:GREGORIAN
METHOD:PUBLISH
UID:f2b3a3e6-1d3b-4472-b21f-f02ec8c1f039
X-WR-CALNAME:iCagenda
X-WR-CALDESC:Event Management Extension for Joomla!
X-WR-RELCALID:3E26604A-50F4-4449-8B3E-E4F4932D05B5
X-WR-TIMEZONE:Europe/Berlin
BEGIN:VTIMEZONE
TZID:Europe/Berlin
BEGIN:STANDARD
TZNAME:CET
DTSTART:20231029T030000
TZOFFSETFROM:+0200
TZOFFSETTO:+0100
RDATE:20241027T030000
RDATE:20251026T030000
END:STANDARD
BEGIN:DAYLIGHT
TZNAME:CEST
DTSTART:20240331T020000
TZOFFSETFROM:+0100
TZOFFSETTO:+0200
RDATE:20250330T020000
END:DAYLIGHT
END:VTIMEZONE
BEGIN:VEVENT
UID:525aa2fa-0d71-4d21-9556-efdc33bb47b9
DTSTAMP:20260420T192247Z
CATEGORIES:Vereinstermin
CLASS:PUBLIC
DESCRIPTION:
DTSTART:20240512T130000Z
DTEND:20240512T130000Z
GEO:+52.357021;+10.970017
LOCATION:Rickensdorf
ORGANIZER:
SEQUENCE:1
SUMMARY:Schützenfest
TRANSP:OPAQUE
URL:https://svrj5.sv-rickensdorf.de/vereinstermine/9-schuetzenfest/2024-05-
 12-15-00
END:VEVENT
END:VCALENDAR
